BEGIN:VCALENDAR
VERSION:2.0
PRODID:-//ical@schauspielhausbochum.de//NONSGML kigkonsult.se iCalcreator 2
 .41.46//
CALSCALE:GREGORIAN
METHOD:PUBLISH
UID:34643533-3539-4431-a438-633635323861
X-WR-CALNAME:Schauspielhaus Bochum
X-WR-CALDESC:
X-WR-RELCALID:de3c563b-6203-421d-bbbe-ab1549410e91
X-WR-TIMEZONE:Europe/Berlin
BEGIN:VTIMEZONE
TZID:Europe/Berlin
TZUNTIL:20271031T010000Z
BEGIN:STANDARD
TZNAME:CET
DTSTART:20251026T030000
TZOFFSETFROM:+0200
TZOFFSETTO:+0100
RDATE:20261025T030000
END:STANDARD
BEGIN:DAYLIGHT
TZNAME:CEST
DTSTART:20260329T020000
TZOFFSETFROM:+0100
TZOFFSETTO:+0200
RDATE:20270328T020000
END:DAYLIGHT
END:VTIMEZONE
BEGIN:VEVENT
UID:66313761-6261-4831-b837-303161633638
DTSTAMP:20260420T132239Z
CLASS:PUBLIC
DESCRIPTION:Wir sind hier immer noch in Deutschland \n Lesung von Canberk K
 öktürk...
DTSTART;TZID=Europe/Berlin:20260430T200000
DTEND;TZID=Europe/Berlin:20260430T200000
LOCATION:Oval Office @Schauspielhaus Bochum Königsallee 15 44789 Bochum
SEQUENCE:1
SUMMARY:Schauspielhaus Bochum: Fascholand
TRANSP:OPAQUE
END:VEVENT
END:VCALENDAR
