BEGIN:VCALENDAR
VERSION:2.0
PRODID:-//ical@schauspielhausbochum.de//NONSGML kigkonsult.se iCalcreator 2
 .41.46//
CALSCALE:GREGORIAN
METHOD:PUBLISH
UID:33333437-3862-4530-b831-633738336635
X-WR-CALNAME:Schauspielhaus Bochum
X-WR-CALDESC:
X-WR-RELCALID:de3c563b-6203-421d-bbbe-ab1549410e91
X-WR-TIMEZONE:Europe/Berlin
BEGIN:VTIMEZONE
TZID:Europe/Berlin
TZUNTIL:20280326T010000Z
BEGIN:STANDARD
TZNAME:CET
DTSTART:20251026T030000
TZOFFSETFROM:+0200
TZOFFSETTO:+0100
RDATE:20261025T030000
RDATE:20271031T030000
END:STANDARD
BEGIN:DAYLIGHT
TZNAME:CEST
DTSTART:20260329T020000
TZOFFSETFROM:+0100
TZOFFSETTO:+0200
RDATE:20270328T020000
END:DAYLIGHT
END:VTIMEZONE
BEGIN:VEVENT
UID:30386331-6335-4838-a566-623864643761
DTSTAMP:20260424T151344Z
CLASS:PUBLIC
DESCRIPTION:...
DTSTART;TZID=Europe/Berlin:20260626T220000
DTEND;TZID=Europe/Berlin:20260627T020000
LOCATION:Oval Office @Schauspielhaus Bochum Königsallee 15 44789 Bochum
SEQUENCE:1
SUMMARY:Schauspielhaus Bochum: Cute Community Radio: Dance Floor
TRANSP:OPAQUE
END:VEVENT
END:VCALENDAR
