BEGIN:VCALENDAR
VERSION:2.0
PRODID:-//ical@schauspielhausbochum.de//NONSGML kigkonsult.se iCalcreator 2
 .41.46//
CALSCALE:GREGORIAN
METHOD:PUBLISH
UID:39396464-3564-4634-a634-316633633563
X-WR-CALNAME:Schauspielhaus Bochum
X-WR-CALDESC:
X-WR-RELCALID:de3c563b-6203-421d-bbbe-ab1549410e91
X-WR-TIMEZONE:Europe/Berlin
BEGIN:VTIMEZONE
TZID:Europe/Berlin
TZUNTIL:20280326T010000Z
BEGIN:STANDARD
TZNAME:CET
DTSTART:20251026T030000
TZOFFSETFROM:+0200
TZOFFSETTO:+0100
RDATE:20261025T030000
RDATE:20271031T030000
END:STANDARD
BEGIN:DAYLIGHT
TZNAME:CEST
DTSTART:20260329T020000
TZOFFSETFROM:+0100
TZOFFSETTO:+0200
RDATE:20270328T020000
END:DAYLIGHT
END:VTIMEZONE
BEGIN:VEVENT
UID:37336436-6264-4739-b639-356339666238
DTSTAMP:20260424T152718Z
CLASS:PUBLIC
DESCRIPTION:von und mit der inklusiven Theaterbande Everyone...
DTSTART;TZID=Europe/Berlin:20260621T150000
DTEND;TZID=Europe/Berlin:20260621T150000
LOCATION:Theaterrevier @Theaterrevier Prinz-Regent-Straße 50-60 44795 Bochu
 m
SEQUENCE:1
SUMMARY:Schauspielhaus Bochum: Schlosshotel Zum Sonnenschein
TRANSP:OPAQUE
END:VEVENT
END:VCALENDAR
