BEGIN:VCALENDAR
VERSION:2.0
PRODID:-//ical@schauspielhausbochum.de//NONSGML kigkonsult.se iCalcreator 2
 .41.46//
CALSCALE:GREGORIAN
METHOD:PUBLISH
UID:34393636-6637-4239-b233-373130313333
X-WR-CALNAME:Schauspielhaus Bochum
X-WR-CALDESC:
X-WR-RELCALID:de3c563b-6203-421d-bbbe-ab1549410e91
X-WR-TIMEZONE:Europe/Berlin
BEGIN:VTIMEZONE
TZID:Europe/Berlin
TZUNTIL:20280326T010000Z
BEGIN:STANDARD
TZNAME:CET
DTSTART:20251026T030000
TZOFFSETFROM:+0200
TZOFFSETTO:+0100
RDATE:20261025T030000
RDATE:20271031T030000
END:STANDARD
BEGIN:DAYLIGHT
TZNAME:CEST
DTSTART:20260329T020000
TZOFFSETFROM:+0100
TZOFFSETTO:+0200
RDATE:20270328T020000
END:DAYLIGHT
END:VTIMEZONE
BEGIN:VEVENT
UID:35626339-3336-4464-b461-336134656165
DTSTAMP:20260419T181914Z
CLASS:PUBLIC
DESCRIPTION:by Barbara Bürk and Clemens Sienknecht...
DTSTART;TZID=Europe/Berlin:20260530T193000
DTEND;TZID=Europe/Berlin:20260530T212000
LOCATION:Kammerspiele @Schauspielhaus Bochum Königsallee 15 44789 Bochum
SEQUENCE:1
SUMMARY:Schauspielhaus Bochum:
TRANSP:OPAQUE
END:VEVENT
END:VCALENDAR
